BEGIN:VCALENDAR
VERSION:2.0
PRODID:-//Boys Disco - ECPv6.15.20//NONSGML v1.0//EN
CALSCALE:GREGORIAN
METHOD:PUBLISH
X-WR-CALNAME:Boys Disco
X-ORIGINAL-URL:https://www.boys.it
X-WR-CALDESC:Eventi per Boys Disco
REFRESH-INTERVAL;VALUE=DURATION:PT1H
X-Robots-Tag:noindex
X-PUBLISHED-TTL:PT1H
BEGIN:VTIMEZONE
TZID:Europe/Rome
BEGIN:DAYLIGHT
TZOFFSETFROM:+0100
TZOFFSETTO:+0200
TZNAME:CEST
DTSTART:20250330T010000
END:DAYLIGHT
BEGIN:STANDARD
TZOFFSETFROM:+0200
TZOFFSETTO:+0100
TZNAME:CET
DTSTART:20251026T010000
END:STANDARD
BEGIN:DAYLIGHT
TZOFFSETFROM:+0100
TZOFFSETTO:+0200
TZNAME:CEST
DTSTART:20260329T010000
END:DAYLIGHT
BEGIN:STANDARD
TZOFFSETFROM:+0200
TZOFFSETTO:+0100
TZNAME:CET
DTSTART:20261025T010000
END:STANDARD
BEGIN:DAYLIGHT
TZOFFSETFROM:+0100
TZOFFSETTO:+0200
TZNAME:CEST
DTSTART:20270328T010000
END:DAYLIGHT
BEGIN:STANDARD
TZOFFSETFROM:+0200
TZOFFSETTO:+0100
TZNAME:CET
DTSTART:20271031T010000
END:STANDARD
END:VTIMEZONE
BEGIN:VEVENT
DTSTART;TZID=Europe/Rome:20260508T233000
DTEND;TZID=Europe/Rome:20260509T060000
DTSTAMP:20260423T193900
CREATED:20260423T065844Z
LAST-MODIFIED:20260423T065844Z
UID:4612-1778283000-1778306400@www.boys.it
SUMMARY:FLUO NIGHT PARTY CON CARLOTTE PINK
DESCRIPTION:BOYS DISCO Vicenza presenta: \nFLUO NIGHT PARTY CON \nCARLOTTE PINK
URL:https://www.boys.it/event/fluo-night-party-con-carlotte-pink/
ATTACH;FMTTYPE=image/jpeg:https://www.boys.it/wp-content/uploads/2026/04/8-9-05.jpeg
END:VEVENT
BEGIN:VEVENT
DTSTART;TZID=Europe/Rome:20260509T233000
DTEND;TZID=Europe/Rome:20260510T060000
DTSTAMP:20260423T193900
CREATED:20260423T070019Z
LAST-MODIFIED:20260423T070019Z
UID:4615-1778369400-1778392800@www.boys.it
SUMMARY:FLUO NIGHT PARTY CON  CARLOTTE PINK
DESCRIPTION:BOYS DISCO Vicenza presenta: \nFLUO NIGHT PARTY CON \nCARLOTTE PINK
URL:https://www.boys.it/event/fluo-night-party-con-carlotte-pink-2/
ATTACH;FMTTYPE=image/jpeg:https://www.boys.it/wp-content/uploads/2026/04/8-9-05.jpeg
END:VEVENT
END:VCALENDAR